BEGIN:VCALENDAR
VERSION:2.0
PRODID:-//Renewable Carbon Events - ECPv6.15.11//NONSGML v1.0//EN
CALSCALE:GREGORIAN
METHOD:PUBLISH
X-WR-CALNAME:Renewable Carbon Events
X-ORIGINAL-URL:https://events.renewable-carbon.eu
X-WR-CALDESC:Events for Renewable Carbon Events
REFRESH-INTERVAL;VALUE=DURATION:PT1H
X-Robots-Tag:noindex
X-PUBLISHED-TTL:PT1H
BEGIN:VTIMEZONE
TZID:Europe/Berlin
BEGIN:DAYLIGHT
TZOFFSETFROM:+0100
TZOFFSETTO:+0200
TZNAME:CEST
DTSTART:20240331T010000
END:DAYLIGHT
BEGIN:STANDARD
TZOFFSETFROM:+0200
TZOFFSETTO:+0100
TZNAME:CET
DTSTART:20241027T010000
END:STANDARD
BEGIN:DAYLIGHT
TZOFFSETFROM:+0100
TZOFFSETTO:+0200
TZNAME:CEST
DTSTART:20250330T010000
END:DAYLIGHT
BEGIN:STANDARD
TZOFFSETFROM:+0200
TZOFFSETTO:+0100
TZNAME:CET
DTSTART:20251026T010000
END:STANDARD
BEGIN:DAYLIGHT
TZOFFSETFROM:+0100
TZOFFSETTO:+0200
TZNAME:CEST
DTSTART:20260329T010000
END:DAYLIGHT
BEGIN:STANDARD
TZOFFSETFROM:+0200
TZOFFSETTO:+0100
TZNAME:CET
DTSTART:20261025T010000
END:STANDARD
END:VTIMEZONE
BEGIN:VEVENT
DTSTART;VALUE=DATE:20250312
DTEND;VALUE=DATE:20250314
DTSTAMP:20260421T221152
CREATED:20240809T093021Z
LAST-MODIFIED:20240809T093021Z
UID:10000043-1741737600-1741910399@events.renewable-carbon.eu
SUMMARY:Cellulose Fibres Conference 2025 – New with Biosynthetics!
DESCRIPTION:The conference will again cover the entire value chain of the sustainable textile industry\, from lignocellulose\, pulp\, cellulose fibres such as rayon\, viscose\, modal or lyocell and new developments to a wide range of applications:\nTextiles from renewable fibres\, nonwovens such as wet wipes\, as well as areas such as composites\, hygiene\, packaging or nanocellulose in the food industry. This year\, for the first time\, the conference will include a dedicated session on biosynthetics – a promising area to complement the alternative for bio-based textiles. Deep insights will be offered into the future of cellulose fibres\, which fits perfectly with the current shift towards circular economy\, recycling and sustainable carbon cycles. \nFurther information at: https://cellulose-fibres.eu
URL:https://events.renewable-carbon.eu/event/cellulose-fibres-conference-2025-new-with-biosynthetics/
LOCATION:Maternushaus\, Kardinalfringsstraße 1-3\, Köln\, 50668\, Germany
CATEGORIES:Cellulose Fibres,nova-Conferences,Sustainability,Textiles
ATTACH;FMTTYPE=image/png:https://events.renewable-carbon.eu/wp-content/uploads/2024/08/24-06-20-CFC-2025-300x100px-Biosynthetics.png
ORGANIZER;CN="nova-Institute":MAILTO:christopher.vomberg@nova-institut.de
END:VEVENT
BEGIN:VEVENT
DTSTART;TZID=Europe/Berlin:20250325T130000
DTEND;TZID=Europe/Berlin:20250325T143000
DTSTAMP:20260421T221152
CREATED:20250219T171822Z
LAST-MODIFIED:20250226T160303Z
UID:10000052-1742907600-1742913000@events.renewable-carbon.eu
SUMMARY:WaterProof Webinar: Unlocking CCU Potential Through Electrochemistry
DESCRIPTION:25 March 2025\, 13:00-14:30 CET\, online \nElectrochemistry is rapidly emerging as a key technology for Carbon Capture and Utilisation (CCU)\, offering a sustainable route to transform CO₂ emissions into a valuable resource for the chemical and materials industry. Many valuable chemicals or fuels can be produced from electrochemistry: CO\, methane\, methanol\, formic acid\, ethane\, ethanol\, ethylene\, oxalic acid and other hydrocarbons. The development of electrocatalytic CO2 reduction is progressing\, with much interest in commodity chemicals such as ethylene to break down barriers to market entry. This innovative approach promises not only to mitigate climate change but also to reduce industries’ dependence on fossil resources\, driving a significant shift towards global sustainability goals.\n\nThe EU-funded WaterProof project invites researchers and industry stakeholders to an insightful webinar on 25 March 2025\, from 13:00 to 14:30 CET. This event will showcase the latest advancements in electrochemical CO₂ conversion and their potential to transform entire industries by making chemical production more sustainable. \n\n\nThe webinar will feature presentations from leading experts:\n\nPatrick Löb (Fraunhofer IMM): Introduction to the ShaPID project’s innovative electrochemical process for sustainable formic acid production.\nBrian Rawls (Avantium/Volta): Exploration of electrochemical production of CO₂-based polyesters and chemicals\, and introduction of the WaterProof project’s technology for electrochemical CO₂ conversion into formic acid.\nDanny Hellebusch (Twelve): Demonstration of Twelve’s revolutionary “industrial photosynthesis” technology\, which Twelve has successfully scaled up to transform CO₂ into products ranging from sustainable aviation fuel to car components.\n\nThe webinar offers a unique opportunity to engage with leading experts and gain valuable insights into the future of electrochemistry in CCU.\nRegister here!\n\nFor more information on the WaterProof project\, visit https://waterproof-project.eu.\nWaterProof is Funded by the European Union. Views and opinions expressed are however those of the author(s) only and do not necessarily reflect those of the European Union or European Health and Digital Executive Agency. Neither the European Union nor the granting authority can be held responsible for them.\n 
URL:https://events.renewable-carbon.eu/event/electrochemistry/
CATEGORIES:Certification,Sustainability
ATTACH;FMTTYPE=image/png:https://events.renewable-carbon.eu/wp-content/uploads/2025/02/25-02-18_Waterproof-Banner-Webinar_Unlocking-CCU-Potential-1.png
END:VEVENT
END:VCALENDAR