BEGIN:VCALENDAR
VERSION:2.0
PRODID:-//Renewable Carbon Events - ECPv6.15.11//NONSGML v1.0//EN
CALSCALE:GREGORIAN
METHOD:PUBLISH
X-WR-CALNAME:Renewable Carbon Events
X-ORIGINAL-URL:https://events.renewable-carbon.eu
X-WR-CALDESC:Events for Renewable Carbon Events
REFRESH-INTERVAL;VALUE=DURATION:PT1H
X-Robots-Tag:noindex
X-PUBLISHED-TTL:PT1H
BEGIN:VTIMEZONE
TZID:Europe/Berlin
BEGIN:DAYLIGHT
TZOFFSETFROM:+0100
TZOFFSETTO:+0200
TZNAME:CEST
DTSTART:20240331T010000
END:DAYLIGHT
BEGIN:STANDARD
TZOFFSETFROM:+0200
TZOFFSETTO:+0100
TZNAME:CET
DTSTART:20241027T010000
END:STANDARD
BEGIN:DAYLIGHT
TZOFFSETFROM:+0100
TZOFFSETTO:+0200
TZNAME:CEST
DTSTART:20250330T010000
END:DAYLIGHT
BEGIN:STANDARD
TZOFFSETFROM:+0200
TZOFFSETTO:+0100
TZNAME:CET
DTSTART:20251026T010000
END:STANDARD
BEGIN:DAYLIGHT
TZOFFSETFROM:+0100
TZOFFSETTO:+0200
TZNAME:CEST
DTSTART:20260329T010000
END:DAYLIGHT
BEGIN:STANDARD
TZOFFSETFROM:+0200
TZOFFSETTO:+0100
TZNAME:CET
DTSTART:20261025T010000
END:STANDARD
END:VTIMEZONE
BEGIN:VEVENT
DTSTART;TZID=Europe/Berlin:20250225T130000
DTEND;TZID=Europe/Berlin:20250225T150000
DTSTAMP:20260421T233755
CREATED:20250129T152705Z
LAST-MODIFIED:20250129T152823Z
UID:10000050-1740488400-1740495600@events.renewable-carbon.eu
SUMMARY:BioReCer- and 3-CO-Webinar: Certification and Innovation in Bio-Based Construction
DESCRIPTION:5 February 2025\, 13:00-14:30 CET\, online \nThe construction sector is one of the most significant contributors to global CO₂ emissions\, accounting for approximately 37 % of energy- and processing-related carbon dioxide emissions worldwide (UNEP\, 2022). It further accounts for about 50% of all extracted materials (EC\, 2025). As the building industry seeks to reduce its environmental impact\, bio-based materials are emerging as a promising solution for more sustainable construction.\nCertification plays a critical role in this transformation\, providing a robust framework for validating the sustainability performance and attesting to the environmental credentials of these innovative bio-based materials. To address this critical issue and explore innovative approaches\, the EU-funded research projects 3-CO and BioReCer are organising a comprehensive webinar on certification and innovation in bio-based construction materials. \nA Holistic Approach to Sustainable Construction\nThis informative event\, scheduled for 25 February 2025\, at 13:00 CEST\, will explore the entire range of bio-based construction materials and their diverse applications. The webinar will cover crucial aspects of sustainable building\, including:\n\nThe importance of certification for bio-based products\,\nSustainable building design\, conception\, and planning\,\nMaterial recommendations\,\nBuilding passports as tools for capturing and communicating building data\, material composition\, and environmental performance\,\nCircularity indicators and their role in assessing a building’s sustainability\, including the new ISO 59040 standard for Product Circularity Data Sheets\, which emphasises circular concepts such as design for disassembly.\nDifferent assessment methods for sustainability of buildings and for constructions\, including the Quality Seal for Sustainable Buildings (QNG)\, e.g.\, CO2-footprint for buildings.\n\nExpert perspective on innovation\nThe webinar brings together a distinguished panel of experts from certification bodies\, public institutions\, and innovative producers:\n\nMartin Behrens (Agency for Renewable Resources (FNR))\nSergiy Kovalenco (CEO and Founder of Hempire)\nHein van Tuijl (EPEA Benelux)\n\nThese will share their extensive knowledge on material innovation\, certification processes\, and the political environment that shapes sustainable construction.\n\nEnvironmental benefits of bio-based materials\nBio-based materials significantly contribute to reducing carbon emissions in construction and its defossiliation. For example\, wood-based structures act as carbon sinks by storing CO₂ throughout their lifecycle. Similarly\, hemp insulation provides excellent thermal performance with a lower environmental footprint compared to conventional materials.\nThis webinar serves as a platform for fostering collaborative change within the construction sector. By connecting diverse stakeholders from innovative material producers to forward-thinking municipalities\, from certification experts to architectural visionaries\, the research projects 3-CO and BioReCer aim to facilitate meaningful discussions that can lead to actionable solutions for sustainable building practices.\nJoin the conversion on 25 February 2025\, at 13:00 CEST.\nRegister here! \n 
URL:https://events.renewable-carbon.eu/event/biobased-construction/
CATEGORIES:Certification,Sustainability
ATTACH;FMTTYPE=image/png:https://events.renewable-carbon.eu/wp-content/uploads/2025/01/25-01-27_3-CO_BioReCer_Certification-in-Bio-based-Construction-3_1200x627-2.png
ORGANIZER;CN="BioReCer-Project":MAILTO:Anke Sanke.schwarzenberger@nova-institut.de
END:VEVENT
END:VCALENDAR