BEGIN:VCALENDAR
VERSION:2.0
PRODID:-//Renewable Carbon Events - ECPv6.15.11//NONSGML v1.0//EN
CALSCALE:GREGORIAN
METHOD:PUBLISH
X-ORIGINAL-URL:https://events.renewable-carbon.eu
X-WR-CALDESC:Events for Renewable Carbon Events
REFRESH-INTERVAL;VALUE=DURATION:PT1H
X-Robots-Tag:noindex
X-PUBLISHED-TTL:PT1H
BEGIN:VTIMEZONE
TZID:Europe/Berlin
BEGIN:DAYLIGHT
TZOFFSETFROM:+0100
TZOFFSETTO:+0200
TZNAME:CEST
DTSTART:20230326T010000
END:DAYLIGHT
BEGIN:STANDARD
TZOFFSETFROM:+0200
TZOFFSETTO:+0100
TZNAME:CET
DTSTART:20231029T010000
END:STANDARD
BEGIN:DAYLIGHT
TZOFFSETFROM:+0100
TZOFFSETTO:+0200
TZNAME:CEST
DTSTART:20240331T010000
END:DAYLIGHT
BEGIN:STANDARD
TZOFFSETFROM:+0200
TZOFFSETTO:+0100
TZNAME:CET
DTSTART:20241027T010000
END:STANDARD
BEGIN:DAYLIGHT
TZOFFSETFROM:+0100
TZOFFSETTO:+0200
TZNAME:CEST
DTSTART:20250330T010000
END:DAYLIGHT
BEGIN:STANDARD
TZOFFSETFROM:+0200
TZOFFSETTO:+0100
TZNAME:CET
DTSTART:20251026T010000
END:STANDARD
END:VTIMEZONE
BEGIN:VEVENT
DTSTART;TZID=Europe/Berlin:20241213T120000
DTEND;TZID=Europe/Berlin:20241213T130000
DTSTAMP:20260422T021137
CREATED:20241107T092102Z
LAST-MODIFIED:20241107T092102Z
UID:10000049-1734091200-1734094800@events.renewable-carbon.eu
SUMMARY:BioReCer- and 3-CO-Webinar: Labels and certification for bio-based products: Counteracting greenwashing and increasing consumer trust
DESCRIPTION:13 December 2024\, 12:00 to 13:00 CET\, online \nThe second episode of the certification webinar series by the Horizon Europe projects BioReCer and 3-CO will tackle two intertwined topics: \nDIN CERTCO will give an introduction into certification in general and especially bio-based certification. Both bio-based and general certifications play a vital role in fostering innovation\, ensuring product integrity. Furthermore\, bio-based certification is a crucial process that verifies the bio-based carbon content of products and materials. Here\, certification promotes the use of renewable resources and provides transparency and trust for consumers and businesses. \nThe presentation by ECOS picks up on labelling and certification schemes for bio-based products\, and will present the variables determining consumer trust and thus shaping consumer behaviour. These variables include sustainability criteria\, label design\, the level of familiarity with labels by consumers and much more. \nThe 3-CO and BioReCer team kindly welcomes the following speakers: \n\nBerit Topolinski (DIN CERTCO\, the certification body of TÜV Rheinland Group)\nMargaux Le Gallou (ECOS – Environmental Coalition on Standards)\n\nTogether\, we will explore their innovative new LCS that will support shaping a strong circular EU (bio)economy. \nRegistrater here! \n 
URL:https://events.renewable-carbon.eu/event/biorecer-and-3-co-webinar-labels-and-certification-for-bio-based-products-counteracting-greenwashing-and-increasing-consumer-trust/
CATEGORIES:Certification,Sustainability
ATTACH;FMTTYPE=image/png:https://events.renewable-carbon.eu/wp-content/uploads/2024/11/24-10-28_3-co_biorecer-banner-labels-and-certification-for-bio-based-products-2_1200x627-2-1024x535-1.png
ORGANIZER;CN="BioReCer-Project":MAILTO:Anke Sanke.schwarzenberger@nova-institut.de
END:VEVENT
END:VCALENDAR