BEGIN:VCALENDAR
VERSION:2.0
PRODID:-//Renewable Carbon Events - ECPv6.15.11//NONSGML v1.0//EN
CALSCALE:GREGORIAN
METHOD:PUBLISH
X-WR-CALNAME:Renewable Carbon Events
X-ORIGINAL-URL:https://events.renewable-carbon.eu
X-WR-CALDESC:Events for Renewable Carbon Events
REFRESH-INTERVAL;VALUE=DURATION:PT1H
X-Robots-Tag:noindex
X-PUBLISHED-TTL:PT1H
BEGIN:VTIMEZONE
TZID:Europe/Berlin
BEGIN:DAYLIGHT
TZOFFSETFROM:+0100
TZOFFSETTO:+0200
TZNAME:CEST
DTSTART:20230326T010000
END:DAYLIGHT
BEGIN:STANDARD
TZOFFSETFROM:+0200
TZOFFSETTO:+0100
TZNAME:CET
DTSTART:20231029T010000
END:STANDARD
BEGIN:DAYLIGHT
TZOFFSETFROM:+0100
TZOFFSETTO:+0200
TZNAME:CEST
DTSTART:20240331T010000
END:DAYLIGHT
BEGIN:STANDARD
TZOFFSETFROM:+0200
TZOFFSETTO:+0100
TZNAME:CET
DTSTART:20241027T010000
END:STANDARD
BEGIN:DAYLIGHT
TZOFFSETFROM:+0100
TZOFFSETTO:+0200
TZNAME:CEST
DTSTART:20250330T010000
END:DAYLIGHT
BEGIN:STANDARD
TZOFFSETFROM:+0200
TZOFFSETTO:+0100
TZNAME:CET
DTSTART:20251026T010000
END:STANDARD
END:VTIMEZONE
BEGIN:VEVENT
DTSTART;TZID=Europe/Berlin:20241105T113000
DTEND;TZID=Europe/Berlin:20241105T123000
DTSTAMP:20260422T033552
CREATED:20240925T100340Z
LAST-MODIFIED:20241030T091136Z
UID:10000047-1730806200-1730809800@events.renewable-carbon.eu
SUMMARY:BioReCer- and 3-CO-Webinar: Potential and challenges of certification\, and development of new labels
DESCRIPTION:5 November 2024\, 11:30 to 12:30 CET\, online \nAre you a member of the (bio-based) industry\, a label and certification schemes holder\, a policy maker or part of a consumer association? Then participate in the first joined webinar by the Horizon Europe projects 3-CO and BioReCer on November 5th 2024\, 11:30 am to 12:30 pm (CET). The webinar will address the vital topic of new certifications and labels for the renewable\, and especially bio-based\, economy. \nCertification and labelling play a crucial role in empowering consumers to make informed and sustainable purchasing decisions by impeding greenwashing and instead providing credible and reliable sustainability information. Furthermore\, they facilitate the tracking and traceability of biological and other renewable feedstock throughout value chains\, fostering transparency and accountability among stakeholders of the industry. However\, there are a lot of challenges for current certification and labelling schemes\, since they are often not sufficiently laid-out for bio-based and other renewable products and their value-chains. \nIn this webinar\, REDcert and TÜV AUSTRIA will show their sytems for sustainability certification and will present new or soon to be published label and certification schemes (LCS) that are relevant for the bio-based economy. The speakers will talk about challenges on the way to the final label\, and which gaps will be closed. \nJoin us on November the 5th and listen to the two presentations by \nPhilippe Dewolfs (TÜV Austria) – From standardisation to communication – the role of a certification body \nSimon Schwarzwald (REDcert) – Certification of sustainable products in the REDcert² scheme \nTogether\, we will explore their innovative new LCS that will support shaping a strong circular EU (bio)economy. \nRegistrater here! \n 
URL:https://events.renewable-carbon.eu/event/potential-and-challenges-of-certification-and-development-of-new-labels/
CATEGORIES:Certification,Sustainability
ATTACH;FMTTYPE=image/png:https://events.renewable-carbon.eu/wp-content/uploads/2024/09/24-09-25_3-CO_BioReCer-Banner-Webinar_1200x627.png
ORGANIZER;CN="BioReCer-Project":MAILTO:Anke Sanke.schwarzenberger@nova-institut.de
END:VEVENT
BEGIN:VEVENT
DTSTART;TZID=Europe/Berlin:20241106T140000
DTEND;TZID=Europe/Berlin:20241106T160000
DTSTAMP:20260422T033552
CREATED:20240918T085617Z
LAST-MODIFIED:20241028T105602Z
UID:10000046-1730901600-1730908800@events.renewable-carbon.eu
SUMMARY:nova Session: Challenges and Developments in Life Cycle Assessment (LCA) (online)
DESCRIPTION:nova Session: Challenges and Developments in Life Cycle Assessment (LCA) (online) \nHosts: Dr. Matthias Stratmann\, Ferdinand Kähler\, Niels de Beus\, and Dr. Ángel Puente (all nova-Institute)\n14:00 – 16:00 h (CET)\, online \nIn this upcoming nova-Session (6 November 2024\, 14-16h\, CET)\, we will provide not only a general introduction to Life Cycle Assessment (LCA) but also dive in the complexities and challenges surrounding its application. As LCA becomes an essential tool for evaluating the environmental impacts of products and processes\, procurement and sustainability professionals must understand how varying standards and data quality influence outcomes. \nThis session will explore specifically the use of supplier-specific data in LCAs\, but also Scope 3 emissions. We will present real-world examples demonstrating how standards affect results\, alongside best practices for ensuring high-quality and reliable LCA data. Special attention will be given to the role of renewable feedstocks\, Carbon Capture and Utilization (CCU)\, mass balance approaches\, and electricity sourcing\, all of which significantly shape LCA results. \nParticipants will gain practical knowledge on navigating the complexities of LCA standards\, ensuring data consistency\, and leveraging supplier data to make informed decisions. This session is tailored for professionals looking to enhance their sustainability strategies and reduce their carbon footprints through informed LCA practices. \n  \nTopics: \n\nIntroduction to LCA: Importance for procurement and sustainability\nSupplier-specific data\nImpact of different LCA standards on results\nData quality\nKey factors influencing LCA: Renewable feedstocks\, CCU\, mass balance\, and electricity sourcing\nPractical case study from industry\n\nProgram: \n14:00–14:10 Welcome and Tour de Table\, Dr. Matthias Stratmann\, nova-Institute \n14:10–14:30 Introduction to Life Cycle Assessment (LCA)\, Dr. Matthias Stratmann\, nova-Institute \n\nOverview of LCA and its importance for sustainability and procurement\nRole of supplier-specific data in LCA\nCurrent industry efforts to facilitate data sharing\n\n14:30–14:40 Industry Perspective\, Nushin Behzadifar\, FKuR Kunststoff \n\nView from Industry: Problems\, Current Demands\, Challenges\n\n14:40–15:00 Different Standards\, Different Results (CASE STUDY 1)\, Ferdinand Kähler\, nova-Institute \n\n How different LCA methods impact LCA results\nCase examples: Comparing outcomes from different standards\n\n15:00–15:20 Quality of LCA Data (CASE STUDY 2)\, Niels de Beus\, nova-Institute \n\nCriteria for high-quality and reliable data\nBest practices for ensuring consistent LCA assessments\nFrom hot-spot analysis to peer-reviewed data\n\n15:20–15:40 Main Levers in Renewable Feedstocks\, Dr. Ángel Puente\, nova-Institute \n\nSystem boundaries in LCA\nThe role of Carbon Capture and Utilization (CCU)\nMass balance\nThe impact of electricity sourcing on LCA outcomes\n\n15:40–16:00 Discussion & wrap-up\, Dr. Matthias Stratmann\, nova-Institute \nThis session offers valuable insights for professionals in procurement\, sustainability\, and supply chain management\, equipping them with knowledge on how to navigate the evolving landscape of LCA. \n 
URL:https://events.renewable-carbon.eu/event/nova-session-challenges-and-developments-in-life-cycle-assessment-lca-online/
CATEGORIES:LCA,nova-Session
ATTACH;FMTTYPE=image/png:https://events.renewable-carbon.eu/wp-content/uploads/2024/09/24-09-18-nova-Session_Challenges-and-Developments-in-LCA_1200x627.png
ORGANIZER;CN="nova-Institute":MAILTO:christopher.vomberg@nova-institut.de
LOCATION:https://events.renewable-carbon.eu/event/nova-session-challenges-and-developments-in-life-cycle-assessment-lca-online/
END:VEVENT
BEGIN:VEVENT
DTSTART;TZID=Europe/Berlin:20241128T133000
DTEND;TZID=Europe/Berlin:20241128T150000
DTSTAMP:20260422T033552
CREATED:20241028T104509Z
LAST-MODIFIED:20241125T074844Z
UID:10000048-1732800600-1732806000@events.renewable-carbon.eu
SUMMARY:FREE nova Session: Latest nova Market and Trend Reports on Alternative Naphtha\, Advanced Recycling\, Bio-based Polymers and Bioeconomy in China
DESCRIPTION:nova Session: Latest nova Market and Trend Reports on Alternative Naphtha\, Advanced Recycling\, Bio-based Polymers and Bioeconomy in China \nHosts: Michael Carus\, Lars Krause\, Pia Skoczinski\, Gillian Tweddle\, Ann Zhang (all nova-institute) \n28 November from 13:30 to 15:00h CET (online) – free of charge \nIn this upcoming nova Session\, a free webinar\, the latest insights from four key reports that are shaping the future of renewable carbon economy\, will be presented. The focus will be on the defossilisation of the chemical industry and fossil-free plastics. \nIn this session\, nova’s best experts will explore ground-breaking developments in bio-based building blocks and polymers\, alternative naphtha\, biodegradable plastics in China and advanced plastic waste recycling. Each report examines emerging trends\, global capacity and market dynamics that are driving the transition to a defossilised\, net-zero chemical industry. \nAlternative Naphtha – Technologies and Market\, Status and Outlook\nThis report examines how the chemical industry can move away from fossil-based naphtha. It looks at the pathways to naphtha from different renewable carbon sources – CO₂\, biomass and recycling – and how these alternatives can be integrated into existing refinery and steam cracker operations. The presentation will cover technologies\, market dynamics\, industry players and projected capacities that are essential to enable this transition to renewable carbon\, which is a critical step towards a defossilised chemical industry. \nMapping of Advanced Plastic Waste Recycling Technologies and their Global Capacities\nThis comprehensive report provides an in-depth look at the rapidly evolving landscape of advanced plastics recycling technologies\, where new players and partnerships continue to emerge. For the first time\, the report provides a global analysis of recycling capacity\, mapping more than 340 operational and planned facilities and profiling more than 120 technology providers – nearly doubling the number included in the previous edition: An overview of the latest technologies\, global input and output capacities\, and market insights that clarify this complex and dynamic sector\, especially for those familiar with the field and seeking the latest developments. \nBio-based Building Blocks and Polymers – Global Capacities\, Production and Trends 2023–2028\nThis comprehensive overview of the 17 commercially available bio-based polymers provides an in-depth look at recent developments and growth trends. In 2023\, notable capacity expansions include a nearly 50% increase in PLA and steady growth in polyamide and epoxy resin production\, as well as expanded capacity for 100% bio-based PE. While bio-based PET will decline significantly\, other materials such as PE and PP derived from bio-based naphtha will gain traction. The presentation will provide an in-depth look at these shifts and expected trends through 2028\, mapping the evolution of this dynamically and fast growing market (CAGR 17%). \nBio-based and Biodegradable Plastics Industries in China\nIs China leading the global bioeconomy? This report examines China’s rapid advances in bio-based technologies and their impact on the global chemical industry. It explores how China is promoting bio-based and biodegradable plastics\, setting the stage for a potential net-zero chemical industry by 2060. The presentation will cover the state of the industry in China\, market dynamics and areas where European and Chinese industries could find collaborative and mutually beneficial ways to develop this promising sector. \nDon’t miss this opportunity to deepen your understanding of the critical shifts happening in the bio-based and sustainable chemical industries. \nEach report will be presented by the lead author for approximately 15 minutes\, with key findings\, followed by a discussion. \nJoin us for an engaging discussion with the authors and industry experts for a comprehensive look at the challenges and opportunities in these rapidly evolving sectors. \nProgram\n13:30–13:35 Welcome\, introduction and moderation\n(Michael Carus\, nova-Institute) \n13:35–13:55 Alternative Naphtha – Technologies and Market\, Status and Outlook\n(Gillian Tweddle\, nova-Institute) \n13:55–14:15 Mapping of Advanced Plastic Waste Recycling Technologies and their Global Capacities\, presentation and discussion\n(Lars Krause\, nova-Institute) \n14:15–14:35 Bio-based Building Blocks and Polymers – Global Capacities\, Production and Trends 2023–2028\, presentation and discussion\n(Pia Skoczinski\, nova-Institute) \n14:35–14:55 Bio-based and Biodegradable Plastics Industries in China\, presentation and discussion\n(Ann Zhang\, nova-Institute) \n14:55–15:00 Wrap-up and final discussion\n(Michael Carus\, all nova-institute) \n  \n  \nRegister here: https://us02web.zoom.us/webinar/register/WN_BXeSp_arRJaT12_7e3lqbQ   
URL:https://events.renewable-carbon.eu/event/free-nova-session-presentation-and-discussion-on-the-latest-nova-market-and-trend-reports/
CATEGORIES:Advanced Recycling,bio-based feedstock,Bio-based Materials,Biological Resources Certifications Schemes,Recycling,Renewable Carbon,Sustainability
ATTACH;FMTTYPE=image/png:https://events.renewable-carbon.eu/wp-content/uploads/2024/10/24-10-30-nova-Session_Latest-nova-Market-and-Trend-Reports_1200x627.png
ORGANIZER;CN="nova-Institute":MAILTO:christopher.vomberg@nova-institut.de
END:VEVENT
END:VCALENDAR