BEGIN:VCALENDAR
VERSION:2.0
PRODID:-//Renewable Carbon Events - ECPv6.15.11//NONSGML v1.0//EN
CALSCALE:GREGORIAN
METHOD:PUBLISH
X-WR-CALNAME:Renewable Carbon Events
X-ORIGINAL-URL:https://events.renewable-carbon.eu
X-WR-CALDESC:Events for Renewable Carbon Events
REFRESH-INTERVAL;VALUE=DURATION:PT1H
X-Robots-Tag:noindex
X-PUBLISHED-TTL:PT1H
BEGIN:VTIMEZONE
TZID:Europe/Berlin
BEGIN:DAYLIGHT
TZOFFSETFROM:+0100
TZOFFSETTO:+0200
TZNAME:CEST
DTSTART:20250330T010000
END:DAYLIGHT
BEGIN:STANDARD
TZOFFSETFROM:+0200
TZOFFSETTO:+0100
TZNAME:CET
DTSTART:20251026T010000
END:STANDARD
BEGIN:DAYLIGHT
TZOFFSETFROM:+0100
TZOFFSETTO:+0200
TZNAME:CEST
DTSTART:20260329T010000
END:DAYLIGHT
BEGIN:STANDARD
TZOFFSETFROM:+0200
TZOFFSETTO:+0100
TZNAME:CET
DTSTART:20261025T010000
END:STANDARD
BEGIN:DAYLIGHT
TZOFFSETFROM:+0100
TZOFFSETTO:+0200
TZNAME:CEST
DTSTART:20270328T010000
END:DAYLIGHT
BEGIN:STANDARD
TZOFFSETFROM:+0200
TZOFFSETTO:+0100
TZNAME:CET
DTSTART:20271031T010000
END:STANDARD
END:VTIMEZONE
BEGIN:VEVENT
DTSTART;TZID=Europe/Berlin:20260512T130000
DTEND;TZID=Europe/Berlin:20260512T143000
DTSTAMP:20260423T034425
CREATED:20260302T104127Z
LAST-MODIFIED:20260416T142340Z
UID:10000075-1778590800-1778596200@events.renewable-carbon.eu
SUMMARY:nova talk #2: Textile Recycling: quo vadis? Just a hype or the next big thing? (FREE webinar)
DESCRIPTION:nova talk #2: Textile Recycling: quo vadis? Just a hype or the next big thing? \n12 May 2026\, 13 – 14:30 CET \nThe second edition of the nova talks turns to one of the most pressing and controversial topics in the transition towards a circular textile economy: textile recycling. This interactive online session will explore whether current developments signal a genuine systemic shift – or whether the momentum risks fading before large-scale impact is achieved. \nFree registration at: https://us02web.zoom.us/webinar/register/WN_sp3uSwv4RvCmqNkI1hvxeA \nDetailed background information you will find at: https://renewable-carbon.eu/news/nova-talk-2-textile-recycling-quo-vadis-just-a-hype-or-the-next-big-thing \n 
URL:https://events.renewable-carbon.eu/event/nova-talk-2-textile-recycling-quo-vadis-just-a-hype-or-the-next-big-thing-free/
CATEGORIES:Cellulose Fibres,Circular Economy,nova talks,Recycling,Sustainability
ATTACH;FMTTYPE=image/png:https://events.renewable-carbon.eu/wp-content/uploads/2026/03/26-02-19_nova-talks-Cellulose-Fibres_Textile-Recycling.png
ORGANIZER;CN="nova-Institute":MAILTO:lara.dammer@nova-institut.de
END:VEVENT
BEGIN:VEVENT
DTSTART;TZID=Europe/Berlin:20260520T130000
DTEND;TZID=Europe/Berlin:20260520T140000
DTSTAMP:20260423T034425
CREATED:20260422T102144Z
LAST-MODIFIED:20260422T102431Z
UID:10000080-1779282000-1779285600@events.renewable-carbon.eu
SUMMARY:Free Webinar: Navigating Green Claims under the EU Empowering Consumers Directive (EmpCo)
DESCRIPTION:What Businesses Need to Know Now!\n20 May\, 13-14 (CET)\, online and free of charge! \n📌Register here! \nYou might have heard that the Green Claims Directive will not come into play – but did you know that the new EU Empowering Consumers Directive (EmpCo) will heavily impact the rules of green claims in Europe by itself? The EmpCo will come into effect this summer\, affecting most sustainability claims throughout the European market. Through its rules\, claims must be accurate and substantiated\, to provide consumers with clearer\, relevant and more detailed information. The Directive aims to strengthen consumer rights and protect them from deceptive practices related to sustainability claims\, such as greenwashing and obsolescence. \nWhether you still need to adapt your claims to the upcoming legislation or want a final check-up before the Directive applies in September – this webinar is for you. \nContent of the webinar\nPolicy context\, status and outlook:\nWhat is the current status of the Empowering Consumers Directive and how will it be implemented across the EU? What changes can companies expect in the near future?\n👉 Get a clear overview of the regulatory background and upcoming developments. \nCompliance requirements for companies:\nWhat are the key obligations for sustainability claims under the new Directive? How can companies ensure compliance going forward?\n👉 Understand what is required to align your communication with the new legal framework. \nAssessment of existing claims:\nHow can current sustainability communication be evaluated under the new rules? Where are potential risks?\n👉 Learn how to assess and adjust your existing claims effectively. \nSubstantiating sustainability claims:\nWhat evidence is needed to support claims in the future? Which methodologies and standards are relevant?\n👉Gain practical guidance on how to substantiate your claims in a compliant way. \nJoin nova-Institute’s free webinar and ensure your sustainability communication is ready for the Empowering Consumers Directive\, learning from our experts: \n\nLara Dammer\, Head of Policy and Strategy\nDr. Matthias Stratmann\, Head of Sustainability\nKaj Seeger\, Policy and Carbon Removal Expert\n\n📌Register here! \nWe also offer in-house workshops for your company.\nContact: lara.dammer@nova-institut.de
URL:https://events.renewable-carbon.eu/event/navigating-green-claims/
CATEGORIES:Green Claims
ATTACH;FMTTYPE=image/png:https://events.renewable-carbon.eu/wp-content/uploads/2026/04/26-04-20-nova-Webinar_Navigating-Green-Claims.png
ORGANIZER;CN="nova-Institute":MAILTO:lara.dammer@nova-institut.de
END:VEVENT
BEGIN:VEVENT
DTSTART;TZID=Europe/Berlin:20260528T140000
DTEND;TZID=Europe/Berlin:20260528T160000
DTSTAMP:20260423T034425
CREATED:20260401T121234Z
LAST-MODIFIED:20260409T063235Z
UID:10000079-1779976800-1779984000@events.renewable-carbon.eu
SUMMARY:Are you ready for a bio-based quota?
DESCRIPTION:The nova-Institute’s new ‘Renewable Feedstock’ department offers concise and timely expert workshops to help you prepare for the political challenges ahead.\n\n28 May\, 14-16 (CET)\, online\n  \nContent of the workshop\n  \nPolicy framework\, Status and Outlook:\nWill a quota for bio-based plastics in packaging be introduced? Which quotas are likely\, and when? Which sectors beyond packaging are under discussion? For which applications is industrial compostability already mandatory today? \n=> Get the latest insights into plans and concepts of the European Commission in the framework of the bioeconomy strategy. \n\nReduced carbon footprint:\nIs it true that bio-based plastics show an intrinsic lower carbon footprint than fossil plastics? Which new LCA-standards account for carbon uptake through biomass? \n=> Get insights into recent developments like LCI database updates demonstrating higher footprints of fossil plastics\, or changing biogenic carbon accounting in LCA methodology \n  \nBiomass availability:\nIs there enough biomass for packaging and more? \n=> Get insights into the latest global and European scenarios and modelling on biomass availability for scaling up bio-based plastics. \n  \nAvailability of bio-based polymers to fulfill the upcoming quotas:\nWhich market and price developments can be expected? Which bio-based plastics are available and suitable for the packaging sector? Who are key producers and traders? \n=> Receive detailed insights into current and future market dynamics\, including capacities of 17 bio-based plastics and their suppliers. \n  \nJoin our two-hour online-workshop and find in-depth answers from leading experts:\n\nChristopher vom Berg\, head of nova-Institute’s ‘Renewable Feedstock‘ department\nMichael Carus\, founder of the institute and senior expert\n\nWe also offer in-house workshop for your company.\nContact: christopher.vomberg@nova-institut.de \n 
URL:https://events.renewable-carbon.eu/event/are-you-prepared-for-a-bio-based-quota-2/
CATEGORIES:Bio-based Building Polymers,bio-based feedstock,Bio-based Materials
ATTACH;FMTTYPE=image/png:https://events.renewable-carbon.eu/wp-content/uploads/2026/04/26-04-01_nova-Workshop_Bio-based-Quota_28-May.png
ORGANIZER;CN="nova-Institute":MAILTO:lara.dammer@nova-institut.de
LOCATION:https://events.renewable-carbon.eu/event/are-you-prepared-for-a-bio-based-quota-2/
END:VEVENT
BEGIN:VEVENT
DTSTART;VALUE=DATE:20260922
DTEND;VALUE=DATE:20260925
DTSTAMP:20260423T034425
CREATED:20230914T124915Z
LAST-MODIFIED:20251121T090511Z
UID:10000012-1790035200-1790294399@events.renewable-carbon.eu
SUMMARY:Renewable Materials Conference
DESCRIPTION:What will the future of the chemical industry look like? \nA wide range of concepts and technologies will be addressed at the conference: circularity\, renewable refineries\, and chemical recycling as well as new process technologies. Technologies to produce more sustainable chemicals\, building blocks\, polymers\, plastics and fine chemicals based on renewable carbon: recycling\, biomass or CO2. Up-to-date information on new innovations\, markets\, sustainability and political framework provide a comprehensive picture of possible future developments. One highlight is the Innovation Award: after six pre-selected presentations\, the audience will vote on the “Renewable Material of the Year 2026”. \nFurther information: https://renewable-materials.eu \n 
URL:https://events.renewable-carbon.eu/event/renewable-materials-conference/
LOCATION:Rhein Sieg Forum\, Bachstraße 1\, Siegburg\, 53721\, Germany
CATEGORIES:Bio-based Materials,Biomass and CO₂,nova-Conferences,Recycling
ATTACH;FMTTYPE=image/png:https://events.renewable-carbon.eu/wp-content/uploads/2023/09/23-07-13_RC-Events_Banner_RMC.png
ORGANIZER;CN="nova-Institute":MAILTO:lara.dammer@nova-institut.de
END:VEVENT
BEGIN:VEVENT
DTSTART;VALUE=DATE:20261117
DTEND;VALUE=DATE:20261119
DTSTAMP:20260423T034425
CREATED:20240506T134152Z
LAST-MODIFIED:20260130T152707Z
UID:10000032-1794873600-1795046399@events.renewable-carbon.eu
SUMMARY:ADVANCED RECYCLING CONFERENCE 2026 (ARC)
DESCRIPTION:Discover the cutting-edge advancements in recycling technology at our upcoming Advanced Recycling Conference (ARC) 2026! Join industry leaders\, innovators\, policy makers and enthusiasts as we delve into a comprehensive exploration of advanced recycling solutions and related topics. \nThis unique event covers all — extrusion\, dissolution\, enzymolysis\, solvolysis\, pyrolysis\, thermal depolymerisation\, gasification with Carbon Capture and Utilisation (CCU)\, pre-and post-treatment technologies as well as digital solutions. Dive deep into discussions about ambitious EU recycling targets\, the commitments of the chemical industry and brands\, and the evolving demands of customers and investors driving the recycling sector forward. \nFurther information: https://advanced-recycling.eu
URL:https://events.renewable-carbon.eu/event/advanced-recycling-conference/
LOCATION:Maternushaus\, Kardinalfringsstraße 1-3\, Köln\, 50668\, Germany
CATEGORIES:Advanced Recycling,nova-Conferences
ATTACH;FMTTYPE=image/png:https://events.renewable-carbon.eu/wp-content/uploads/2024/08/23-07-13_RC-Events_Banner_ARC.png
ORGANIZER;CN="nova-Institute":MAILTO:lara.dammer@nova-institut.de
END:VEVENT
END:VCALENDAR