BEGIN:VCALENDAR
VERSION:2.0
PRODID:-//Renewable Carbon Events - ECPv6.15.11//NONSGML v1.0//EN
CALSCALE:GREGORIAN
METHOD:PUBLISH
X-WR-CALNAME:Renewable Carbon Events
X-ORIGINAL-URL:https://events.renewable-carbon.eu
X-WR-CALDESC:Events for Renewable Carbon Events
REFRESH-INTERVAL;VALUE=DURATION:PT1H
X-Robots-Tag:noindex
X-PUBLISHED-TTL:PT1H
BEGIN:VTIMEZONE
TZID:Europe/Berlin
BEGIN:DAYLIGHT
TZOFFSETFROM:+0100
TZOFFSETTO:+0200
TZNAME:CEST
DTSTART:20240331T010000
END:DAYLIGHT
BEGIN:STANDARD
TZOFFSETFROM:+0200
TZOFFSETTO:+0100
TZNAME:CET
DTSTART:20241027T010000
END:STANDARD
BEGIN:DAYLIGHT
TZOFFSETFROM:+0100
TZOFFSETTO:+0200
TZNAME:CEST
DTSTART:20250330T010000
END:DAYLIGHT
BEGIN:STANDARD
TZOFFSETFROM:+0200
TZOFFSETTO:+0100
TZNAME:CET
DTSTART:20251026T010000
END:STANDARD
BEGIN:DAYLIGHT
TZOFFSETFROM:+0100
TZOFFSETTO:+0200
TZNAME:CEST
DTSTART:20260329T010000
END:DAYLIGHT
BEGIN:STANDARD
TZOFFSETFROM:+0200
TZOFFSETTO:+0100
TZNAME:CET
DTSTART:20261025T010000
END:STANDARD
END:VTIMEZONE
BEGIN:VEVENT
DTSTART;TZID=Europe/Berlin:20250911T140000
DTEND;TZID=Europe/Berlin:20250911T160000
DTSTAMP:20260421T200415
CREATED:20250602T061839Z
LAST-MODIFIED:20250602T061933Z
UID:10000060-1757599200-1757606400@events.renewable-carbon.eu
SUMMARY:BioReCer - Final Multi-Stakeholder annual online meeting
DESCRIPTION:11 September\, 2025\, from 2:00 PM to 4:0 PM CEST\, online\n \nJoin us for the final BioReCer Annual Stakeholders Meeting to explore the key outcomes of the project and discover how digital tools can support transparent and trusted certification schemes in the bio-based sector. The session will include a presentation of project highlights\, a live demonstration of the BIT Tool\, and an interactive roundtable with diverse stakeholders to validate the tool and gather feedback. As the BioReCer project nears completion\, this final forum offers an opportunity to reflect on its main achievements and test the digital BIT Tool in action. Stakeholders from across the value chain—including consumers\, certifiers\, and industry — will join a roundtable to assess its usability\, effectiveness\, and future applications\, with the audience invited to contribute via live feedback. \nModeration: Dusica Banduka\, nova-institute\n14:00 – 14:30 BioReCer Progress Update Presenter: Lucia Gonzalez\, CETAQUA\n14:30 -14:50 BioReCer ICT tool (BIT) Presenter: Romain Magnani EGM\, (last presentation)\n14:50 – 15:30 Roundtable discussion \nRegister here: https://us02web.zoom.us/webinar/register/WN_lP06EuYaQ0arvrof5ZnEAw \n\nFurther information: \nBioReCer (https://biorecer.eu)\nBioReCer will develop the BioReCer ICT tool (BIT)\, an automated assessment tool that collects and transmits real-time data on the environmental performance of bio-based value chains promoting environmentally conscious decisions and sustainable practices in the bioeconomy.
URL:https://events.renewable-carbon.eu/event/biorecer-final-multi-stakeholder-annual-online-meeting/
CATEGORIES:Bio-based Materials,Certification,Sustainability
ATTACH;FMTTYPE=image/png:https://events.renewable-carbon.eu/wp-content/uploads/2025/06/25-06-02_BioReCer-Banner-Final-Annual-Stakeholders-Meeting.png
ORGANIZER;CN="BioReCer-Project":MAILTO:Anke Sanke.schwarzenberger@nova-institut.de
END:VEVENT
END:VCALENDAR