BEGIN:VCALENDAR
VERSION:2.0
PRODID:-//Renewable Carbon Events - ECPv6.15.11//NONSGML v1.0//EN
CALSCALE:GREGORIAN
METHOD:PUBLISH
X-ORIGINAL-URL:https://events.renewable-carbon.eu
X-WR-CALDESC:Events for Renewable Carbon Events
REFRESH-INTERVAL;VALUE=DURATION:PT1H
X-Robots-Tag:noindex
X-PUBLISHED-TTL:PT1H
BEGIN:VTIMEZONE
TZID:Europe/Berlin
BEGIN:DAYLIGHT
TZOFFSETFROM:+0100
TZOFFSETTO:+0200
TZNAME:CEST
DTSTART:20230326T010000
END:DAYLIGHT
BEGIN:STANDARD
TZOFFSETFROM:+0200
TZOFFSETTO:+0100
TZNAME:CET
DTSTART:20231029T010000
END:STANDARD
BEGIN:DAYLIGHT
TZOFFSETFROM:+0100
TZOFFSETTO:+0200
TZNAME:CEST
DTSTART:20240331T010000
END:DAYLIGHT
BEGIN:STANDARD
TZOFFSETFROM:+0200
TZOFFSETTO:+0100
TZNAME:CET
DTSTART:20241027T010000
END:STANDARD
BEGIN:DAYLIGHT
TZOFFSETFROM:+0100
TZOFFSETTO:+0200
TZNAME:CEST
DTSTART:20250330T010000
END:DAYLIGHT
BEGIN:STANDARD
TZOFFSETFROM:+0200
TZOFFSETTO:+0100
TZNAME:CET
DTSTART:20251026T010000
END:STANDARD
END:VTIMEZONE
BEGIN:VEVENT
DTSTART;TZID=Europe/Berlin:20241002T093000
DTEND;TZID=Europe/Berlin:20241002T140000
DTSTAMP:20260422T112914
CREATED:20240808T141418Z
LAST-MODIFIED:20240820T090824Z
UID:10000042-1727861400-1727877600@events.renewable-carbon.eu
SUMMARY:BioReCer: Italian Stakeholder Meeting
DESCRIPTION:Hybrid event\, 2nd October 2024\, 9:30 to 14:00 CET \nFollowing the first two successful stakeholder events in Greece and Sweden\, the Horizon Europe project BioReCer organises the next meeting in Milan\, Italy on 2nd October 2024. \nThe BioReCer project aims at improving and fostering the certification of bio-based feedstock and value-chains. Since the development of guidelines for labelling and certification schemes and recommendations to policy makers is something that concerns many parties\, stakeholder feedback is indispensable for the success of the project. Therefore\, BioReCer invites experts and insiders of the bioeconomy\, the bio-based industries\, policy makers\, consumer associations\, waste(water) treatment facilities\, etc. to participate in the next stakeholder meeting. While the first two meetings with the project’s dedicated BioResources Stakeholders Platform (BRSP) focused on bio-based value-chains from agriculture and forestry\, the fourth meeting will add the topic of value of organic matter as feedstock from municipal waste and wastewater streams.\nJoin this upcoming event and bring in your opinions\, views and insights on waste feedstock from forestry\, agriculture\, fishery and municipality to strengthen the EU bioeconomy. Support the project to improve current certification and labelling schemes for resources from biological waste and residues. Help to address relevant policy makers with recommendations for the use and valorisation of biological feedstock based on the experience of industry stakeholders. \n𝐖𝐡𝐚𝐭 𝐢𝐬 𝐢𝐧 𝐟𝐨𝐫 𝐲𝐨𝐮? \n\nGet informed on the project’s latest developments.\nLearn more about how to tackle challenges regarding certification and valorisation of biological waste feedstock.\nUnderstand why biological waste is valuable and not a burden and how it can add to a sustainable industrial development.\nMake your voice heard and actively contribute your insights and experience to cutting-edge EU research.\nExtend your own network while discussing with BRSP members from industry\, research and policy.\nBe among the first to test an innovative digital tool that enables stakeholders an elaborate management of bio-resources.\nContribute to a project that fosters a sustainable EU\, prioritising environment\, society and economy.\n\nAgenda: \nModeration and hosting: Dr. Anke Schwarzenberger (nova-Institute)\n\n09:30 – 09:45 Arrival and welcome coffee\n09:45 – 10:00 Cristina di Maria (UNI) – Introduction of the stakeholders\n10:00 – 10:45 Alireza Mousavi (Imperial College Longon) and Annarita Colasante (UNITELMA) – Indicators and assessment framework for bio-based feedstock and waste + Product circularity data sheet\n\n10:45 – 11:00 Coffee break\n11:00 – 12:00 Romain Magnani and Franck Le Gall (EGM) – Introduction BioReCer Information Communication Technology Tool\n12:00 – 12:45 Cristina Di Maria and Claudio Perissinotti (UNI) – Introduction standardization activities current and future and Toolkit\n\n12:45 – 14:00 Lunch and networking session with stakeholders\n14:00 – 15:00 Cristina Di Maria and Claudio Perissinotti (UNI) – Stakeholder training on standardization and Comité Européen de Normalisation (CEN) workshop agreement\n\n\n\nRegister here! \nLearn more about the Italian Stakeholders Meeting (the agenda will follow soon): https://biorecer.eu\nGet informed on the BRSP and register as a member: https://biorecer.eu/brsp \nBioReCer (Biological Resources Certifications Schemes) aims at assessing and complementing current certification schemes for biological resources according to the new EU sustainability goals to enhance bio-based circular systems. This will be achieved by including new criteria that align with EU taxonomy and EU corporate due diligence regulations into guidelines for certifying biological resources’ sustainability\, origin\, tracking and traceability\, and by ensuring applicability at EU and global scale. By promoting the sustainability and trade of biological resources\, BioReCer will increase the added value\, use and social acceptance of bio-based products. \nRead more about BioReCer and register for the project newsletter: https://biorecer.eu \nFunded by the European Union. Views and opinions expressed are however those of the author(s) only and do not necessarily reflect those of the European Union or European Research Executive Agency. Neither the European Union nor the granting authority can be held responsible for them. \n 
URL:https://events.renewable-carbon.eu/event/biorecer-italian-stakeholder-meeting/
LOCATION:UNI premises\, Via Sannio 2\, Milan\, 20137\, Italy
CATEGORIES:bio-based feedstock,Sustainability
ATTACH;FMTTYPE=image/png:https://events.renewable-carbon.eu/wp-content/uploads/2024/08/24-07-18_BioReCer-Banner-Stakeholders-Event-Italy.png
ORGANIZER;CN="BioReCer-Project":MAILTO:Anke Sanke.schwarzenberger@nova-institut.de
END:VEVENT
END:VCALENDAR