BEGIN:VCALENDAR
VERSION:2.0
PRODID:-//Renewable Carbon Events - ECPv6.15.11//NONSGML v1.0//EN
CALSCALE:GREGORIAN
METHOD:PUBLISH
X-ORIGINAL-URL:https://events.renewable-carbon.eu
X-WR-CALDESC:Events for Renewable Carbon Events
REFRESH-INTERVAL;VALUE=DURATION:PT1H
X-Robots-Tag:noindex
X-PUBLISHED-TTL:PT1H
BEGIN:VTIMEZONE
TZID:Europe/Berlin
BEGIN:DAYLIGHT
TZOFFSETFROM:+0100
TZOFFSETTO:+0200
TZNAME:CEST
DTSTART:20230326T010000
END:DAYLIGHT
BEGIN:STANDARD
TZOFFSETFROM:+0200
TZOFFSETTO:+0100
TZNAME:CET
DTSTART:20231029T010000
END:STANDARD
BEGIN:DAYLIGHT
TZOFFSETFROM:+0100
TZOFFSETTO:+0200
TZNAME:CEST
DTSTART:20240331T010000
END:DAYLIGHT
BEGIN:STANDARD
TZOFFSETFROM:+0200
TZOFFSETTO:+0100
TZNAME:CET
DTSTART:20241027T010000
END:STANDARD
BEGIN:DAYLIGHT
TZOFFSETFROM:+0100
TZOFFSETTO:+0200
TZNAME:CEST
DTSTART:20250330T010000
END:DAYLIGHT
BEGIN:STANDARD
TZOFFSETFROM:+0200
TZOFFSETTO:+0100
TZNAME:CET
DTSTART:20251026T010000
END:STANDARD
END:VTIMEZONE
BEGIN:VEVENT
DTSTART;TZID=Europe/Berlin:20240627T140000
DTEND;TZID=Europe/Berlin:20240627T160000
DTSTAMP:20260422T121228
CREATED:20240506T074718Z
LAST-MODIFIED:20240625T102608Z
UID:10000034-1719496800-1719504000@events.renewable-carbon.eu
SUMMARY:nova-Session: The latest on the EU policy framework for plastics\, ecodesign and sustainability
DESCRIPTION:Hosts: Nicolas Hark\, Luciano Proto Cassina (nova-Institute) \nIn this nova Session two of nova’s Policy experts\, Luciano Proto Cassina and Nicolas Hark\, are going to give a concise overview of the latest developments in the EU policy framework for Renewable Carbon in the chemical and material industries.\nThis includes the latest news on the Packaging & Packaging Waste Regulation\, the recently published Communication on Biotechnology and Biomanufacturing\, the Corporate Sustainability Reporting Directive and the associated Reporting Standards among others.\nParticipants will also have the opportunity to discuss on these topics with the experts as well as other participants after each topic. \n  \n\n\n\n14:00 (CET)\nWelcome and Introduction\nAsta Partanen\n(nova-Institut GmbH)\n\n\n14:10 (CET)\nPackaging and Packaging Waste Regulation and Ecodesign for Sustainable Product Regulation\nNicolas Hark\n(nova-Institut GmbH)\n\n\n14:40 (CET)\nEU Biotechnology and Biomanufacturing Communication\, Green Claims Directive\nNicolas Hark\n(nova-Institut GmbH)\n\n\n15:10 (CET)\nEU Sustainable Finance Framework\, the CSRD\, ESRS and the CSDDD\nLuciano Proto Cassina\n(nova-Institut GmbH)\n\n\n15:50 – 16:00 (CET)\nOutlook and Wrap Up\nNicolas Hark\n(nova-Institut GmbH)\n\n\n\n  \n 
URL:https://events.renewable-carbon.eu/event/nova-session-the-latest-on-the-eu-policy-framework-for-plastics-ecodesign-and-sustainability/
CATEGORIES:EU Policy for Chemicals and Materials,nova-Session,Sustainability Claims under New EU Legislation
ATTACH;FMTTYPE=image/png:https://events.renewable-carbon.eu/wp-content/uploads/2024/05/24-06-03-nova-Session_EU-Policy-Framework_1200x627-1.png
ORGANIZER;CN="nova-Institute":MAILTO:lara.dammer@nova-institut.de
LOCATION:https://events.renewable-carbon.eu/event/nova-session-the-latest-on-the-eu-policy-framework-for-plastics-ecodesign-and-sustainability/
END:VEVENT
BEGIN:VEVENT
DTSTART;TZID=Europe/Berlin:20240926T140000
DTEND;TZID=Europe/Berlin:20240926T160000
DTSTAMP:20260422T121228
CREATED:20240709T131811Z
LAST-MODIFIED:20240918T134334Z
UID:10000037-1727359200-1727366400@events.renewable-carbon.eu
SUMMARY:nova Session: Mastering CSRD Compliance: Strategies for Effective Sustainability Reporting (online)
DESCRIPTION:Hosts: Lara Dammer\, Head of Economy & Policy and Dr. Matthias Stratmann\, Head of Sustainability (both nova-Institute)\n14:00-16:00 (CET)\n \nUnderstanding the CSRD\nThe Corporate Sustainability Reporting Directive (CSRD) is an EU directive that aims to improve the transparency and comparability of corporate sustainability data. It requires companies to prepare and disclose detailed reports on environmental\, social and governance (ESG) issues\, including Scope 3 emissions. \nWho will be affected by the CSRD and when?\nThe CSRD significantly extends the scope of sustainability reporting to a wider range of companies. Any company that meets at least two of the following criteria 250+ employees\, €40m+ turnover or €20m+ total assets\, will be required to comply. From 2024\, the CSRD will apply to companies already subject to the Non-Financial Reporting Directive (NFRD). By 2025\, other large companies will be included and by 2026\, listed small and medium-sized enterprises (SMEs) will also have to comply. \nAre you ready for reporting? Get your ducks in a row now!\nThe two-hour webinar will cover the essentials of CSRD reporting\, including the European Sustainability Reporting Standards (ESRS)\, which outline nearly 1\,200 data points. Participants will learn how to integrate sustainability data into management reports and understand the need for external assurance on all disclosed information. The webinar will focus on double materiality\, which requires companies to assess both their impact on the environment and the environment’s impact on them. It will also highlight the importance of working with stakeholders such as employees\, shareholders\, customers and local authorities. Participants will learn how improved sustainability reporting can enhance a company’s credibility\, trust and value\, while providing insights for optimising long-term performance. \nTopics: \n\nUnderstanding the CSRD – background and objectives\nDouble Materiality\nEuropean Sustainability Reporting Standards (ESRS)\nAssessment methods (incl. LCA)\nEffectively involving stakeholders\nData management\nOptimising long-term performance\n\nProgram (all CET): \n14:00-14:15 Welcome and introduction\, Lara Dammer\n14:15-14:35 Understanding the CSRD – Background\, context\, terminology\, Q&A\, Nicolas Hark\n14:35-15:00 European Sustainability Reporting Standards (ESRS) – Overview and data points\, assessment methods\, Ferdinand Kähler\n15:00-15:30 Double materiality assessment – strategy and stakeholder involvement\, Q&A\, Dr. Matthias Stratmann\, Lara Dammer\n15:30-15:45 CSRD reporting and verification\, Lucas Wagner\, TÜV SÜD Industrie Service GmbH\n15:45-16:00 Final Q&A and wrap-up All \n 
URL:https://events.renewable-carbon.eu/event/nova-session-mastering-csrd-compliance-strategies-for-effective-sustainability-reporting/
CATEGORIES:CSRD Sustainability Reporting,nova-Session,Sustainability Claims under New EU Legislation
ATTACH;FMTTYPE=image/png:https://events.renewable-carbon.eu/wp-content/uploads/2024/06/24-06-27-nova-Session_Mastering-CSRD-Compliance_1200x627.png
ORGANIZER;CN="nova-Institute":MAILTO:lara.dammer@nova-institut.de
LOCATION:https://events.renewable-carbon.eu/event/nova-session-mastering-csrd-compliance-strategies-for-effective-sustainability-reporting/
END:VEVENT
END:VCALENDAR