BEGIN:VCALENDAR
VERSION:2.0
PRODID:-//Renewable Carbon Events - ECPv6.15.11//NONSGML v1.0//EN
CALSCALE:GREGORIAN
METHOD:PUBLISH
X-WR-CALNAME:Renewable Carbon Events
X-ORIGINAL-URL:https://events.renewable-carbon.eu
X-WR-CALDESC:Events for Renewable Carbon Events
REFRESH-INTERVAL;VALUE=DURATION:PT1H
X-Robots-Tag:noindex
X-PUBLISHED-TTL:PT1H
BEGIN:VTIMEZONE
TZID:Europe/Berlin
BEGIN:DAYLIGHT
TZOFFSETFROM:+0100
TZOFFSETTO:+0200
TZNAME:CEST
DTSTART:20230326T010000
END:DAYLIGHT
BEGIN:STANDARD
TZOFFSETFROM:+0200
TZOFFSETTO:+0100
TZNAME:CET
DTSTART:20231029T010000
END:STANDARD
BEGIN:DAYLIGHT
TZOFFSETFROM:+0100
TZOFFSETTO:+0200
TZNAME:CEST
DTSTART:20240331T010000
END:DAYLIGHT
BEGIN:STANDARD
TZOFFSETFROM:+0200
TZOFFSETTO:+0100
TZNAME:CET
DTSTART:20241027T010000
END:STANDARD
BEGIN:DAYLIGHT
TZOFFSETFROM:+0100
TZOFFSETTO:+0200
TZNAME:CEST
DTSTART:20250330T010000
END:DAYLIGHT
BEGIN:STANDARD
TZOFFSETFROM:+0200
TZOFFSETTO:+0100
TZNAME:CET
DTSTART:20251026T010000
END:STANDARD
END:VTIMEZONE
BEGIN:VEVENT
DTSTART;TZID=Europe/Berlin:20241030T130000
DTEND;TZID=Europe/Berlin:20241030T160000
DTSTAMP:20260421T184746
CREATED:20240808T114612Z
LAST-MODIFIED:20240927T091538Z
UID:10000041-1730293200-1730304000@events.renewable-carbon.eu
SUMMARY:nova Session: Food and Feed Crops for Bio-based Materials – Facts\, Myths\, Availability and Policy (online)
DESCRIPTION:nova-Session: Food and Feed Crops for Bio-based Materials – Facts\, Myths\, Availability and Policy  \nHosts: Lara Dammer and Michael Carus (both nova-Institute)\n13:00 – 16:00 h (CET)\, online \nWhen discussing the green transition\, there are conflicting views. On the one hand\, it is considered fact that we need to move away from fossil feedstocks\, also for chemicals and materials\, and that bio-based materials will have to play an important role there. On the other hand\, there are severe concerns about the overall availability of biomass and the competition to food and feed. There is a widely held view that the use of food and feed crops for anything other than food and feed uses is detrimental to food security. We are ready to challenge this perception and want to encourage differentiated discussions and evidence-based opinion making. \nIn this three-hour webinar\, nova-Institute will present findings from latest research on the overall availability of biomass\, now and until 2050. Furthermore\, we will show that the impacts of using food and feed crops are much more complex than usually assumed and can even be positive\, with regards to climate\, land productivity\, environment\, farmers’ income\, market stability\, feed security and food security. Experts will also highlight the recent political framework for using biomass for biofuels and bio-based chemicals and materials. Two companies will showcase their ways of using sustainably sourced primary biomass. \nJoin our webinar for surprising insights and in-depth discussion of a hotly debated issue! \n  \nTopics:\n\nWhy bio-based materials have an important role to play for mitigating climate change\nGlobal biomass availability\nOverall environmental impacts and sustainability assessments\nEconomic effects\nProtein supply and emergency reserves\nPolitical framework\nPractical examples of companies utilising sustainably sourced primary biomass\n\nProgram\n13:00–13:10 Welcome and introduction\n(Lara Dammer\, nova-Institute)\n\n13:10–14:00 Availability of agricultural and forest-based biomass now and in the future – new insights from recent research\n(Michael Carus\, nova-Institute) \n14:00–14:30 The Use of Food and Feed Crops for Bio-based Materials and the Related Effects on Food Security – returning to a fact-based debate\n(Michael Carus and Lara Dammer\, nova-Institute) \n14:30–14:45 Q&A \n14:45–15:15 Status quo of policy on biomass uses and sustainability requirements\n(Lara Dammer\, nova-Institute) \n15:15–15:45 Practical examples of sustainable bio-based materials from primary biomass\n(Martin Clemesha\, Braskem | Dr. Jens Angermann\, CropEnergies) \n15:45–16:00 Discussion & wrap-up
URL:https://events.renewable-carbon.eu/event/nova-session-food-and-feed-crops-for-bio-based-materials/
CATEGORIES:Food and Feed Crops,nova-Session
ATTACH;FMTTYPE=image/png:https://events.renewable-carbon.eu/wp-content/uploads/2024/08/24-08-05_nova-Session_Food-and-Feed-Crops-for-Bio-based-Materials_1200x627.png
ORGANIZER;CN="nova-Institute":MAILTO:christopher.vomberg@nova-institut.de
LOCATION:https://events.renewable-carbon.eu/event/nova-session-food-and-feed-crops-for-bio-based-materials/
END:VEVENT
END:VCALENDAR