BEGIN:VCALENDAR
VERSION:2.0
PRODID:-//Renewable Carbon Events - ECPv6.15.11//NONSGML v1.0//EN
CALSCALE:GREGORIAN
METHOD:PUBLISH
X-ORIGINAL-URL:https://events.renewable-carbon.eu
X-WR-CALDESC:Events for Renewable Carbon Events
REFRESH-INTERVAL;VALUE=DURATION:PT1H
X-Robots-Tag:noindex
X-PUBLISHED-TTL:PT1H
BEGIN:VTIMEZONE
TZID:Europe/Berlin
BEGIN:DAYLIGHT
TZOFFSETFROM:+0100
TZOFFSETTO:+0200
TZNAME:CEST
DTSTART:20250330T010000
END:DAYLIGHT
BEGIN:STANDARD
TZOFFSETFROM:+0200
TZOFFSETTO:+0100
TZNAME:CET
DTSTART:20251026T010000
END:STANDARD
BEGIN:DAYLIGHT
TZOFFSETFROM:+0100
TZOFFSETTO:+0200
TZNAME:CEST
DTSTART:20260329T010000
END:DAYLIGHT
BEGIN:STANDARD
TZOFFSETFROM:+0200
TZOFFSETTO:+0100
TZNAME:CET
DTSTART:20261025T010000
END:STANDARD
BEGIN:DAYLIGHT
TZOFFSETFROM:+0100
TZOFFSETTO:+0200
TZNAME:CEST
DTSTART:20270328T010000
END:DAYLIGHT
BEGIN:STANDARD
TZOFFSETFROM:+0200
TZOFFSETTO:+0100
TZNAME:CET
DTSTART:20271031T010000
END:STANDARD
END:VTIMEZONE
BEGIN:VEVENT
DTSTART;TZID=Europe/Berlin:20260205T140000
DTEND;TZID=Europe/Berlin:20260205T144500
DTSTAMP:20260423T001105
CREATED:20260129T104316Z
LAST-MODIFIED:20260130T091707Z
UID:10000072-1770300000-1770302700@events.renewable-carbon.eu
SUMMARY:FREE nova Webinar –  SBTI in practice - From setting targets to implementation
DESCRIPTION:More and more companies are setting science-based targets — but turning them into concrete action at company level is often where the real challenge begins. \nTracking Scope 1\, 2 and 3 emissions\, defining a robust baseline year\, and translating data into actionable decisions can feel complex\, especially with limited internal resources. \n📅 FREE nova Webinar – From Targets to Action: Implementing SBTi with Practical Tools\n🗓 5 February 2026 | 14:00–14:45 (CET) | Online \n👉 Register here:\nhttps://us02web.zoom.us/webinar/register/WN_H0gqD_iXRJ2WgFTJ-WyplA \nIn this hands-on session\, the nova-Institute shows how companies can practically implement SBTi targets — from the first baseline to ongoing Scope 1\, 2 and 3 emissions tracking using a web-based\, GHG Protocol–compliant tool. \n“Tracking Scope 1\, 2 and 3 emissions doesn’t have to be complicated — with the right tools\, you can monitor progress and make informed decisions year after year.” — Nadja Wulff\, Sustainability Expert at nova-Institute \n🎓 What you’ll learn: \n\nHow to translate SBTi targets into concrete actions\nHow corporate emissions data is structured and managed\nHow dashboards support year-on-year tracking and decision-making
URL:https://events.renewable-carbon.eu/event/free-nova-webinar-from-targets-to-action-implementing-sbti-with-practical-tools/
CATEGORIES:CO₂ Management
ATTACH;FMTTYPE=image/png:https://events.renewable-carbon.eu/wp-content/uploads/2026/01/26-01-28-nova-Webinar_SBTi-in-Practice.png
ORGANIZER;CN="nova-Institute":MAILTO:lara.dammer@nova-institut.de
END:VEVENT
BEGIN:VEVENT
DTSTART;TZID=Europe/Berlin:20260324T130000
DTEND;TZID=Europe/Berlin:20260324T143000
DTSTAMP:20260423T001105
CREATED:20260219T172026Z
LAST-MODIFIED:20260225T100038Z
UID:10000074-1774357200-1774362600@events.renewable-carbon.eu
SUMMARY:WaterProof Webinar: Industrial-Urban Symbiosis – Industrial-Urban Symbiosis: Business\, Funding\, and Practical Insights
DESCRIPTION:24 March 2026\, 13:00-14:30 CET\, online \n\nTurning Underutilised Resources into Economic & Environmental Value \nIndustrial-Urban Symbiosis (I-US) enables new business opportunities though the collaboration of diverse stakeholders across various sectors. Hereby\, this innovative approach facilitates the exchange of underutilised resources\, e.g. by-products\, residues\, energy\, water\, capacities\, and expertise\, keeping materials productive longer. By repurposing outputs as inputs\, I-US can minimise resource extraction\, cut costs\, and advance objectives of the EU Circular Economy Action Plan. \nKey criteria of this value creation are aligned stakeholder interest and the exchange of perspectives. Businesses benefit from reduced raw material costs\, supply chain resilience\, lower disposal expenses\, and new revenue opportunities. Meanwhile local authorities and regions can profit from healthier ecosystems\, economic vitality\, and new job opportunities. These complementary goals drive economic resilience and systemic change towards sustained resource loops\, higher recycling rates and enhanced regional sustainability. \nTo turn theory into practice\, the EU-funded WaterProof project hosts the webinar “Industrial-Urban Symbiosis: Business\, Funding\, and Practical Insights”. Join on 24 March 2026 from 13:00 to 14:30 CET for targeted strategies and practical insights that will equip industry professionals and practitioners with proven I-US skills. \nRegister here! \n\nThe webinar will feature presentations from leading experts:\n\nAlena Jahns/Mara Wagner (IZES): Introduction to the WaterProof project and Industrial Urban Symbiosis.\nJames Woodcock (International Synergies Limited & H4C ECoP): Business cases and funding for I-US\nHannes Utikal (Provadis School\, Process4Sustainability at Industrial Park Höchst\, Frankfurt): Practical example: Industrial Symbiosis collaboration at Höchst Industrial Park.\nEric Schuler (Avantium): Embedding CCU/the volta technology in the I-US context\n\nThe WaterProof Project and I-US Integration \nThe EU-funded research project WaterProof implements I-US by developing a cutting-edge CO2 conversion technology . Powered by renewable energy\, this unique electrochemical process converts CO₂ captured from wastewater treatment and waste incineration into formic acid. It hereby turns emissions into a sustainable carbon feedstock replacing fossil resources. The generated formic acid will be tested in applications like fish leather tanning and consumer cleaning products as well as the formulation of Formic-derived Acidic Deep Eutectic Solvents (ADES). The project’s synergies perfectly illustrate I-US potentials: Urban CO₂ emissions supply chemical industries. Peroxide by-products treat wastewater contaminated with pesticides\, antibiotics\, and pharmaceuticals. Formic-derived Acidic Deep Eutectic Solvents (ADES) extract precious metals from ash and sludge\, creating closed loop circular systems.\nFor more information on the WaterProof project\, visit https://waterproof-project.eu.\nWaterProof is Funded by the European Union. Views and opinions expressed are however those of the author(s) only and do not necessarily reflect those of the European Union or European Health and Digital Executive Agency. Neither the European Union nor the granting authority can be held responsible for them.\n 
URL:https://events.renewable-carbon.eu/event/waterproof-webinar-industrial-urban-symbiosis-stakeholder-collaboration-across-key-sectors/
CATEGORIES:Biomass and CO₂,CCU,Circular Economy,CO₂ Management,CSRD Sustainability Reporting,EU Policy for Chemicals and Materials,Net Zero Economy,Sustainability,Sustainable Chemistry
ATTACH;FMTTYPE=image/png:https://events.renewable-carbon.eu/wp-content/uploads/2026/02/26-02-19_Waterproof-Banner-Webinar_Industrial-Urban_Symbiosis.png
END:VEVENT
END:VCALENDAR